BEGIN:VCALENDAR
VERSION:2.0
PRODID:-//Cultural Creative Corner - ECPv6.15.20//NONSGML v1.0//EN
CALSCALE:GREGORIAN
METHOD:PUBLISH
X-WR-CALNAME:Cultural Creative Corner
X-ORIGINAL-URL:https://www.culturalcreativecorner.com
X-WR-CALDESC:Events for Cultural Creative Corner
REFRESH-INTERVAL;VALUE=DURATION:PT1H
X-Robots-Tag:noindex
X-PUBLISHED-TTL:PT1H
BEGIN:VTIMEZONE
TZID:Europe/Brussels
BEGIN:DAYLIGHT
TZOFFSETFROM:+0100
TZOFFSETTO:+0200
TZNAME:CEST
DTSTART:20240331T010000
END:DAYLIGHT
BEGIN:STANDARD
TZOFFSETFROM:+0200
TZOFFSETTO:+0100
TZNAME:CET
DTSTART:20241027T010000
END:STANDARD
BEGIN:DAYLIGHT
TZOFFSETFROM:+0100
TZOFFSETTO:+0200
TZNAME:CEST
DTSTART:20250330T010000
END:DAYLIGHT
BEGIN:STANDARD
TZOFFSETFROM:+0200
TZOFFSETTO:+0100
TZNAME:CET
DTSTART:20251026T010000
END:STANDARD
BEGIN:DAYLIGHT
TZOFFSETFROM:+0100
TZOFFSETTO:+0200
TZNAME:CEST
DTSTART:20260329T010000
END:DAYLIGHT
BEGIN:STANDARD
TZOFFSETFROM:+0200
TZOFFSETTO:+0100
TZNAME:CET
DTSTART:20261025T010000
END:STANDARD
END:VTIMEZONE
BEGIN:VEVENT
DTSTART;TZID=Europe/Brussels:20250223T150000
DTEND;TZID=Europe/Brussels:20250223T180000
DTSTAMP:20260425T153353
CREATED:20250219T160557Z
LAST-MODIFIED:20250219T162031Z
UID:10000161-1740322800-1740333600@www.culturalcreativecorner.com
SUMMARY:Open Gallery  (Ludo Jacobs - nature photography & Jean Marie Olivier - aquarelle)
DESCRIPTION:Stop by and take a peek at the stunning new exhibition at CC Corner! Enjoy free entry and explore unique\, affordable art—perfect for a thoughtful gift or a beautiful addition to your home. \n  \nVisits: \nSaturday: February 22 and March 1\, 8\, 15 from 7 PM to 9 PM\nSunday: February 23 and March 9 from 3 PM to 6 PM\nOr by appointment at **0488 16 60 69**. \nFree entry. \nLocation:\nThe Cultural Creative Corner\n36\, Rue d’Argile / Potaardestraat 36 – Kraainem \n  \n \n  \n  \n  \n  \nLudo Jacobs (Nature Photography)\nLudo has been photographing the Orchid collection and other collections at the Botanical Garden in Meise for the past eight years.\nFor nature photography\, Ludo uses his eyes but sees with his emotions and his heart. The way he translates this “vision” into an image defines his style. \n  \n  \n  \nJean Marie Olivier (Watercolor Artist)\nHere’s what Jean Marie says: “My watercolors are created through my emotions—some vivid\, others darker\, but all expressive.”
URL:https://www.culturalcreativecorner.com/events/exhibition-2/
LOCATION:Cultural Creative Corner\, Potaardestraat 36\, Kraainem\, 1950\, Belgium
CATEGORIES:Exhibition
ATTACH;FMTTYPE=image/jpeg:https://www.culturalcreativecorner.com/wp-content/uploads/2025/02/IMG20250216151159-Res.jpg
ORGANIZER;CN="Cultural Creative Corner":MAILTO:events@cccorner.info
END:VEVENT
END:VCALENDAR